BEGIN:VCALENDAR
VERSION:2.0
PRODID:-//Woodworkers Institute - ECPv6.15.20//NONSGML v1.0//EN
CALSCALE:GREGORIAN
METHOD:PUBLISH
X-ORIGINAL-URL:https://woodworkersinstitute.com
X-WR-CALDESC:Events for Woodworkers Institute
REFRESH-INTERVAL;VALUE=DURATION:PT1H
X-Robots-Tag:noindex
X-PUBLISHED-TTL:PT1H
BEGIN:VTIMEZONE
TZID:Europe/London
BEGIN:DAYLIGHT
TZOFFSETFROM:+0000
TZOFFSETTO:+0100
TZNAME:BST
DTSTART:20250330T010000
END:DAYLIGHT
BEGIN:STANDARD
TZOFFSETFROM:+0100
TZOFFSETTO:+0000
TZNAME:GMT
DTSTART:20251026T010000
END:STANDARD
BEGIN:DAYLIGHT
TZOFFSETFROM:+0000
TZOFFSETTO:+0100
TZNAME:BST
DTSTART:20260329T010000
END:DAYLIGHT
BEGIN:STANDARD
TZOFFSETFROM:+0100
TZOFFSETTO:+0000
TZNAME:GMT
DTSTART:20261025T010000
END:STANDARD
BEGIN:DAYLIGHT
TZOFFSETFROM:+0000
TZOFFSETTO:+0100
TZNAME:BST
DTSTART:20270328T010000
END:DAYLIGHT
BEGIN:STANDARD
TZOFFSETFROM:+0100
TZOFFSETTO:+0000
TZNAME:GMT
DTSTART:20271031T010000
END:STANDARD
END:VTIMEZONE
BEGIN:VTIMEZONE
TZID:America/Halifax
BEGIN:DAYLIGHT
TZOFFSETFROM:-0400
TZOFFSETTO:-0300
TZNAME:ADT
DTSTART:20250309T060000
END:DAYLIGHT
BEGIN:STANDARD
TZOFFSETFROM:-0300
TZOFFSETTO:-0400
TZNAME:AST
DTSTART:20251102T050000
END:STANDARD
BEGIN:DAYLIGHT
TZOFFSETFROM:-0400
TZOFFSETTO:-0300
TZNAME:ADT
DTSTART:20260308T060000
END:DAYLIGHT
BEGIN:STANDARD
TZOFFSETFROM:-0300
TZOFFSETTO:-0400
TZNAME:AST
DTSTART:20261101T050000
END:STANDARD
BEGIN:DAYLIGHT
TZOFFSETFROM:-0400
TZOFFSETTO:-0300
TZNAME:ADT
DTSTART:20270314T060000
END:DAYLIGHT
BEGIN:STANDARD
TZOFFSETFROM:-0300
TZOFFSETTO:-0400
TZNAME:AST
DTSTART:20271107T050000
END:STANDARD
END:VTIMEZONE
BEGIN:VEVENT
DTSTART;VALUE=DATE:20260509
DTEND;VALUE=DATE:20260511
DTSTAMP:20260422T231307
CREATED:20260130T162730Z
LAST-MODIFIED:20260130T162730Z
UID:651524-1778284800-1778457599@woodworkersinstitute.com
SUMMARY:Weird and Wonderful Wood 2026
DESCRIPTION:A celebration of the many aspects of woodwork & woodworkers\nMay 9th & 10th\, 2026\, Suffolk UK \nWeird and Wonderful Wood is a unique and exciting event which is never the same from year to year. There are new things happening and new experiences every time\, including many stalls\, demonstrations\, workshops\, and spontaneous happenings from street performers and acoustic musicians alike\, but one aspect never changes\, the event’s very special atmosphere that sees people coming back year after year.\nThe show has a varied and interesting selection of stalls\, demonstrators\, children’s workshops\, entertainers and caterers.\nStalls: Over 130 hand picked stalls with a range of beautiful wooden products\, sculpture\, art\, musical instruments\, metal\, glass\, local food and drink and more! \nSHOW HOURS:\nFriday\, May 9th: TBD\nSaturday\, May 10th: TBD \nPlease confirm show dates and times before attending. \nShow cost:\nAdult £17\nChild: £8\nFamily: £45 \nShow website:\nhttps://www.weirdandwonderfulwood.co.uk \nShow location:\nHaughley Park\nWetherden\,\nNr Stowmarket\,\nSuffolk\nIP14 3JY\nLocation Website:\nhttps://www.haughleypark.co.uk \nContact:\nhttps://www.weirdandwonderfulwood.co.uk/contact/
URL:https://woodworkersinstitute.com/event/weird-and-wonderful-wood-2026/
LOCATION:Haughley Park\, Haughly Park\, Stowmarket\, Suffolk\, IP14 3JY\, United Kingdom
END:VEVENT
BEGIN:VEVENT
DTSTART;VALUE=DATE:20260517
DTEND;VALUE=DATE:20260520
DTSTAMP:20260422T231307
CREATED:20250529T153714Z
LAST-MODIFIED:20250529T153714Z
UID:290868-1778976000-1779235199@woodworkersinstitute.com
SUMMARY:Professional Woodworking Expo 2026
DESCRIPTION:The UK’s tradeshow for the Woodworking and Joinery Manufacturing industry\nMay 17th – May 19th\, 2026\, NEC Birmingham UK \nProfessional Woodworking Expo is the UK’s only dedicated tradeshow for woodworking and joinery professionals. As an evolution of Materials and Finishes Show\, it will be taking place at the NEC Birmingham from 17-19 May 2026 and will showcase cutting-edge machinery\, tools\, software\, materials\, components and finishes. With live demos\, expert-led content\, and networking opportunities\, it’s the must-attend event for carpenters\, joiners\, machinists\, and installers looking to stay ahead in the industry. \nSHOW HOURS\nSunday\, May. 17th: TBD\nMonday\, May. 18th: TBD\nTuesday\, May. 19th: TBD \nPlease confirm show dates and times before attending. \nShow cost\nN/A \nShow website\nhttps://www.professionalwoodworkingexpo.com \nShow location\nThe National Exhibition Centre\nBirmingham\, B40 1NT\, UK\nLocation Website: https://www.thenec.co.uk \nOrganiser\nMontgomery Group\nhttps://www.montgomerygroup.com
URL:https://woodworkersinstitute.com/event/professional-woodworking-expo-2026/
LOCATION:The National Exhibition Centre\, The National Exhibition Centre\, Birmingham\, B40 1NT\, United Kingdom
END:VEVENT
BEGIN:VEVENT
DTSTART;TZID=America/Halifax:20260604T150000
DTEND;TZID=America/Halifax:20260607T130000
DTSTAMP:20260422T231307
CREATED:20260408T190150Z
LAST-MODIFIED:20260409T142828Z
UID:810424-1780585200-1780837200@woodworkersinstitute.com
SUMMARY:AAW Symposium 2026
DESCRIPTION:The AAW International Woodturning Symposium is the biggest and most well-known annual woodturning event in the world\nJune 4th – June 7th\, 2026\, Raleigh NC \nCELEBRATING 40 YEARS!\nThe AAW International Woodturning Symposium is the biggest and most well-known annual woodturning event in the world. Held in a different region of the country each year\, the Symposium attracts woodturning hobbyists\, artists\, professionals\, collectors\, vendors and anyone looking to learn more about the woodturning craft. With 80+ live demonstrations\, presentations and panel discussions\, there is a lot to experience. It features the industry’s largest and most attended tradeshow (showcasing companies of all sizes) and awe-inspiring galleries\, exhibitions and auctions featuring unbelievable wood art from across the world. \n* Internationally Renowned Demonstrators – Top woodturners from around the world will be demonstrating for woodturners of all skill levels.\n* Woodturning & Woodworking Trade Show – Many of your favorite woodturning and woodworking vendors in one place with exclusive deals and a hands-on look at the latest and greatest products.\n* A Sense of Community – Connect with a welcoming community of woodturning hobbyists\, professionals\, artists\, collectors\, and vendors.\n* Gallery\, Exhibitions and Auctions – The largest and most unique display of awe-inspiring wood art from around the world \nSHOW HOURS\nThursday\, June. 4th: 3pm – 8pm\nFriday\, June. 5th: 8:80am – 6pm\nSaturday\, June. 6th: 8:30am – 6pm\nSunday\, June. 7th: 8:00am – 1:00pm \nPlease confirm show dates and times before attending. \nShow cost\nSee https://www.aawsymposium.org/register \nShow website\nhttps://www.aawsymposium.org \nShow location\nRaleigh Convention Center\n500 South Salisbury Street\nRaleigh\, NC 27601\nLocation Website: https://www.raleighconvention.com \nOrganiser\nAmerican Association of Woodturners\nhttps://www.woodturner.org
URL:https://woodworkersinstitute.com/event/aaw-symposium-2026/
LOCATION:Raleigh Convention Center\, 500 South Salisbury Street\, Raleigh\, NC\, 27601\, United States
END:VEVENT
BEGIN:VEVENT
DTSTART;TZID=America/Halifax:20260630T080000
DTEND;TZID=America/Halifax:20260702T140000
DTSTAMP:20260422T231307
CREATED:20260409T142151Z
LAST-MODIFIED:20260409T142736Z
UID:811484-1782806400-1783000800@woodworkersinstitute.com
SUMMARY:WoodProExpo 2026
DESCRIPTION:Where woodworking meets innovation\nJune 30th – July 2nd\, 2026\, West Palm Beach\, FL \nWood Pro Expo Florida is a regional marketplace for wood manufacturing professionals to connect\, explore the latest industry trends\, discover cutting-edge solutions\, and enhance their business operations and processes. Whether you run a small shop or a large manufacturing facility\, Wood Pro Expo Florida offers the tools\, insights\, and connections to help your business thrive. \n* Designed for all wood manufacturing professionals\n* Discover the latest machinery\, tools\, and technologies\n* Network with industry experts and peers\n* Learn strategies to grow your business\n* Stay ahead of industry trends \nSHOW HOURS\nTuesday\, June 30: 8:00 AM – 6:00 PM | WPE & Closets Conference and Plant Tour\nWednesday\, July 1: 9:00 AM – 5:00 PM | Expo Floor Open\nThursday\, July 2: 9:00 AM – 2:00 PM | Expo Floor Open \nPlease confirm show dates and times before attending. \nShow cost\n$495 \nShow website\nhttps://www.woodworkingnetwork.com/events/wood-pro-expo \nShow location\nPalm Beach County Convention Center\n650 Okeechobee Blvd\nWest Palm Beach\, FL 33401\nLocation Website: https://www.pbconventioncenter.com \nOrganiser\nWoodworking Network\nhttps://www.woodworkingnetwork.com
URL:https://woodworkersinstitute.com/event/woodproexpo-2026/
LOCATION:Palm Beach County Convention Center\, 650 Okeechobee Blvd\, West Palm Beach\, FL\, 33401\, United States
END:VEVENT
END:VCALENDAR